BEGIN:VCALENDAR
VERSION:2.0
PRODID:-//JAEK - ECPv6.15.17.1//NONSGML v1.0//EN
CALSCALE:GREGORIAN
METHOD:PUBLISH
X-WR-CALNAME:JAEK
X-ORIGINAL-URL:https://jaek.ee
X-WR-CALDESC:Events for JAEK
REFRESH-INTERVAL;VALUE=DURATION:PT1H
X-Robots-Tag:noindex
X-PUBLISHED-TTL:PT1H
BEGIN:VTIMEZONE
TZID:UTC
BEGIN:STANDARD
TZOFFSETFROM:+0000
TZOFFSETTO:+0000
TZNAME:UTC
DTSTART:20200101T000000
END:STANDARD
END:VTIMEZONE
BEGIN:VEVENT
DTSTART;TZID=UTC:20211019T093000
DTEND;TZID=UTC:20211019T163000
DTSTAMP:20260420T063641
CREATED:20210909T073858Z
LAST-MODIFIED:20210909T074019Z
UID:4581-1634635800-1634661000@jaek.ee
SUMMARY:Lõuna-Eesti Toidukonverents “(Maa)ettevõtlus kui elustiil – amatöörist professionaaliks”
DESCRIPTION:Ootame Sind juba viiendat korda toimuvale Lõuna-Eesti Toidukonverentsile – 19. oktoobril Põltsamaal. \nMiks seekord Põltsamaa? Sest see on kaunis linn Eestimaa südames\, kuhu võõrustaja Jõgevamaa soovib meid tuua !  \nKonverentsi teemaks on (Maa)ettevõtlus kui elustiil – amatöörist professionaaliks.Eestimaal on nii palju toidutootjaid-\, pakkujaid\, kelle tegevus alguse saanud kirest\, hobist\, elustiilist\, mis nüüd toob ka leiva lauale. Kuidas on nende ettevõtjate teekond olnud\, mis on olnud väljakutsed\, karid\, mis on olnud õnnestumised\, ehk ka õnnelikud juhused – tule kuula! \nModeraatoriks ehk päevajuhiks on Erlis Schönberg – Mulgimaa mees\, maitsemeelelahutaja\, Peakokkade Ühenduse liige\, Eesti kodukokk 2010. \nSarnaselt eelmisele aastale on konverentsi raames plaanis väiketootjate toodete esitlemine\, degusteerimine\, nö minimess. \nKonverentsi korralduses löövad kaasa erinevate toiduvõrgustike eestvedajad üle Lõuna-Eesti\, sh Jõgevamaa Koostöökoda\, TÜ Taluturg\, Põlvamaa Arenduskeskus\, Viljandimaa Arenduskeskus\, Tartu Teaduspark\, EMÜ Polli Teadmistepõhiste tervise- ja loodustoodete kompetentsikeskus\, Tartumaa Arendusselts\, Valgamaa Arenguagentuur\,  Võrumaa Talupidajate Liit/ Uma Mekk\, MTÜ Seto Küük\, Eesti Maaturismi Assotsiatsioon\, MTÜ Sibulatee ja MTÜ Mulgi Väiketootjate Liit. \nTähelepanu! Konverentsile pääseb vaid COVID- tõendiga\, ehk kas kinnitus COVID-19 haiguse läbipõdemise kohta (180 päeva jooksul)\, koroonapassiga (vaktsineerimiskuuri läbimist tõendav dokument) või negatiivse testitulemuse esitlemisega (kiirtest või PCR test). Täpsemad tingimused sõltuvad tol hetkel kehtivatest piirangutest ja reeglitest. \nRegistreerimine kuni 11. oktoobrini SIIN. Konverents on osalejatele tasuta ja toimub hübriid-üritusena\, ehk võimalik osaleda nii füüsiliselt kohale tulles\, kui läbi veebi.
URL:https://jaek.ee/event/louna-eesti-toidukonverents-maaettevotlus-kui-elustiil-amatoorist-professionaaliks/
LOCATION:Põltsamaa kultuurikeskus\, J. Kuperjanovi 1\, Põltsamaa\, Eesti
CATEGORIES:Muu
ATTACH;FMTTYPE=image/jpeg:https://jaek.ee/wp-content/uploads/2021/04/L-E-toidukonverents.jpg
ORGANIZER;CN="Elo Mets":MAILTO:elo@arinouandla.ee
END:VEVENT
END:VCALENDAR