BEGIN:VCALENDAR
VERSION:2.0
PRODID:-//JAEK - ECPv6.15.17.1//NONSGML v1.0//EN
CALSCALE:GREGORIAN
METHOD:PUBLISH
X-ORIGINAL-URL:https://jaek.ee
X-WR-CALDESC:Events for JAEK
REFRESH-INTERVAL;VALUE=DURATION:PT1H
X-Robots-Tag:noindex
X-PUBLISHED-TTL:PT1H
BEGIN:VTIMEZONE
TZID:UTC
BEGIN:STANDARD
TZOFFSETFROM:+0000
TZOFFSETTO:+0000
TZNAME:UTC
DTSTART:20210101T000000
END:STANDARD
END:VTIMEZONE
BEGIN:VEVENT
DTSTART;TZID=UTC:20220120T093000
DTEND;TZID=UTC:20220120T153000
DTSTAMP:20260420T013947
CREATED:20220105T070058Z
LAST-MODIFIED:20220105T070257Z
UID:5403-1642671000-1642692600@jaek.ee
SUMMARY:Jõgevamaa kogukonnakonverents “Kaasamisest koosloomeni!”
DESCRIPTION:Jõgevamaa Arendus- ja Ettevõtluskeskus kutsub vabaühenduste\, kohalike omavalitsuste\, ettevõtete\, organisatsioonide ja kogukondade esindajaid 20. jaanuaril 2022 Kuremaa mõisa kogukonnakonverentsile “Kaasamisest koosloomeni!”\, et üheskoos arutleda\, kuidas erinevate osapoolte koostöös senisest aktiivsemalt oma kodukoha arendamises osaleda ja kaasa rääkida.Konverentsi kava: \n\n\n\n9.30 – 10.00\nKonverentsile kogunemine\, hommikukohv\n\n\n10.00 – 10.15\nPäeva sissejuhatus  – moderaator Mai Timmi \n\n\n10.15 – 10.40\n„Mis on koosloomes kohaliku elu arendamine  ja  kuidas selleni jõuda?“ –  Maris Jõgeva\, Sotsiaalse Innovatsiooni Labor  \n\n\n10.40 – 11.05\n„Kogukonna kaasamisest Elva valla näitel“ – Kertu Vuks\, Elva valla abivallavanem\n\n\n11.05 – 11.30\nMustvee valla kogukonnakogude kogemus“ – Lembit Mangulson\, Mustvee vallavalitsuse liige\n\n\n11.30 – 11.55\n„Kogukond ja kohalik omavalitsus kriisiolukorras“ – Viktor Svjatõšev\, Jõgeva valla abivallavanem\n\n\n12.00 –  13.00\nLõuna\n\n\n13.00 – 13.25\n„Väätsa kogukonna lugu“ – Lauri Läänemets\, Riigikogu liige\, endine Väätsa vallavanem\n\n\n13.25 – 13.50\n„Avinurme kogukonnakogu tegemised kohaliku elaniku pilguga“– Krista Pedak\, Avinurme Külavanemate Koda\n\n\n13.50 – 14.15\n „Kuidas linnades kogukonnatunnet luua? “ – Piret Maasik\, Veeriku Selts\n\n\n14.15 – 15.00\nPaneeldiskussioon „Kuidas Jõgevamaal kogukondade ja valdade koosloomes kohalikku elu edendada?“\n\n\n15.00 – 15.15\nKonverentsi kokkuvõte\, lõpetamine\n\n\n\nKonverentsile on oodatud kõik huvilised\, osalemine on tasuta. Osalemiseks on vajalik esitada kehtiv tõend lõpetatud vaktsineerimiskuuri või koroona läbipõdemise kohta. \nOma osalemissoovist anna teada hiljemalt 17. jaanuariks tel 5208423\, e-postil: kersti@jaek.ee või registreeru veebis SIIN.  \nKogukonnakonverentsi toimumist toetavad Põltsamaa\, Jõgeva ja Mustvee vald. \nLisainformatsioon: Kersti KurvitsKodanikuühenduste konsultante-post: kersti@jaek.ee või tel. 520 8423
URL:https://jaek.ee/event/jogevamaa-kogukonnakonverents-kaasamisest-koosloomeni/
LOCATION:Kuremaa loss\, Kuremaa loss\, Jõgeva maakond\, 48445\, Eesti
CATEGORIES:Muu
ATTACH;FMTTYPE=image/jpeg:https://jaek.ee/wp-content/uploads/2021/12/koostoo-scaled.jpg
ORGANIZER;CN="Kersti Kurvits":MAILTO:kersti@jaek.ee
END:VEVENT
END:VCALENDAR