BEGIN:VCALENDAR
VERSION:2.0
PRODID:-//JAEK - ECPv6.15.17.1//NONSGML v1.0//EN
CALSCALE:GREGORIAN
METHOD:PUBLISH
X-WR-CALNAME:JAEK
X-ORIGINAL-URL:https://jaek.ee
X-WR-CALDESC:Events for JAEK
REFRESH-INTERVAL;VALUE=DURATION:PT1H
X-Robots-Tag:noindex
X-PUBLISHED-TTL:PT1H
BEGIN:VTIMEZONE
TZID:UTC
BEGIN:STANDARD
TZOFFSETFROM:+0000
TZOFFSETTO:+0000
TZNAME:UTC
DTSTART:20210101T000000
END:STANDARD
END:VTIMEZONE
BEGIN:VEVENT
DTSTART;TZID=UTC:20220602T140000
DTEND;TZID=UTC:20220603T170000
DTSTAMP:20260419T173044
CREATED:20220422T075526Z
LAST-MODIFIED:20220527T122055Z
UID:6406-1654178400-1654275600@jaek.ee
SUMMARY:Lõuna-Eesti ettevõtlike naiste häkaton
DESCRIPTION:Tartu Ärinõuandla ja Jõgevamaa Arendus- ja Ettevõtluskeskus korraldavad 2.-3. juunil 2022 Lõuna-Eesti ettevõtlike naiste häkatoni\, kuhu – nagu nimigi ütleb – on oodatud AINULT NAISED!  \n📍 Häkatonile on osalema oodatud nii olemasoleva ettevõttega naised\, kes tahavad luua uut teenust/ toodet\,📍 Naised\, kes soovivad jätta palgatöö ja/ või alustada ettevõtlusega või kes soovivad kannapööret elus!📍 Häkatonile on oodatud ka sotsiaalse\, kogukondliku loomuga ideed – kuid võib tulla ka täitsa ilma ideeta!📍 Vajalik on eelnev ettevõtlus ja/ või töökogemus!📍 Vajalik on huvi\, soov ja valmidus teha koostööd NAISkonnas!📍Sind on ootamas põnevad inspiratsiooniesinejad ja mentorid.📍 Auhinnad parimatele naiskondadele! \n💥Toimumiskoht Mäeotsa puhketalu\, kuhu viivad ja toovad bussid nii Tartust kui Jõgevalt.💥Osalustasu 49eur💥Registreerumine pikendatud kuni 30. mai kl 10.00 SIIN. \n\n\nESIALGNE PROGRAMM🕑Neljapäev\, 2️⃣.juuni\, kl.14:00-…Kogunemine\, kohv\, avasõnadOhoo-elamuse maagia! ehk inspiratsiooniesinejad ja -kõnedIdeede esitlemine: mida tahad muuta?Ideede turg\, meeskondade moodustamineProbleemi defineerimine\, lahenduse valideerimineÕhtusöök\, saun\, “öörahu” \n🕘Reede\, 3️⃣.juuni kl.9:00-17:00Hommikusöök\, hommikukohvTöö algab: kes on minu klient ja miks ta peaks meie teenust/toodet soovima?Mis on kiire prototüüpimine ja kuidas seda teha?Turunduse ABCLühikoolituse Liisi Laidrelt: avalik esinemineLiftikõne struktuurLõunaLõpuesitlused žüriilePidulik lõpetamine ja auhinnad \n\n\n*Korraldajad jätavad endale õiguse teha kavas muudatusi. \n\nOsalustasu inimese kohta on 49 EUR.Registreerimine: https://forms.gle/HiXtxeKJPf9UwZdu5 \nLõuna-Eesti ettevõtlike naiste häkatoni kulud kaetakse Euroopa Regionaalarengu Fondist prioriteetse suuna 5 “Väikese ja keskmise suurusega ettevõtete ja piirkondliku ettevõtluse arendamine” meetme “Piirkondade konkurentsivõime tugevdamine” tegevuse 5.4.2. “Piirkondlikud algatused tööhõive ja ettevõtlikkuse edendamiseks” – raames. \nLisainformatsioon: Sandra BlaubergTurundus- ja arendusjuhtJõgevamaa Arendus- ja Ettevõtluskeskuse-post: sandra@jaek.ee või tel. 5866 0146
URL:https://jaek.ee/event/ettevotlike-naiste-hakaton/
LOCATION:Mäeotsa Puhketalu\, Kõduküla\, Tartu vald\, Tartumaa\, 49109
CATEGORIES:Muu
ATTACH;FMTTYPE=image/jpeg:https://jaek.ee/wp-content/uploads/2022/04/Fb-cover_hakaton.jpg
ORGANIZER;CN="Sandra Blauberg":MAILTO:sandra@jaek.ee
END:VEVENT
END:VCALENDAR