BEGIN:VCALENDAR
VERSION:2.0
PRODID:-//JAEK - ECPv6.15.17.1//NONSGML v1.0//EN
CALSCALE:GREGORIAN
METHOD:PUBLISH
X-ORIGINAL-URL:https://jaek.ee
X-WR-CALDESC:Events for JAEK
REFRESH-INTERVAL;VALUE=DURATION:PT1H
X-Robots-Tag:noindex
X-PUBLISHED-TTL:PT1H
BEGIN:VTIMEZONE
TZID:UTC
BEGIN:STANDARD
TZOFFSETFROM:+0000
TZOFFSETTO:+0000
TZNAME:UTC
DTSTART:20210101T000000
END:STANDARD
END:VTIMEZONE
BEGIN:VEVENT
DTSTART;TZID=UTC:20220604T090000
DTEND;TZID=UTC:20220604T190000
DTSTAMP:20260419T173219
CREATED:20220422T083450Z
LAST-MODIFIED:20220422T083958Z
UID:6415-1654333200-1654369200@jaek.ee
SUMMARY:Jõgevamaa loometalgud
DESCRIPTION:Ootame kõiki aktiivseid inimesi esimestele Jõgevamaa loometalgutele!\nVõrumaa Vunki Mano ja Tartumaa loometalgute eeskujul tahame ka Jõgevamaal anda hoogu juurde kogukondlikele algatustele ja kaasates eri valdkonna inimesi\, leida kohalikele probleemidele lahendusi ning anda hoogu juurde uutele algatustele. \nLoometalgud on häkatoni stiilis kokkusaamine\, kus igaüks saab osaleda kogukonnas olevate kitsaskohtade lahendamises ja käivitada oma kodukohas muutusi\, mida ühiselt ellu viia. Kaasates probleemide lahendamisse võimalikult palju erinevaid osapooli ja ka sihtgrupi esindajaid\, saame olla kindlad\, et leitud lahendused on kõiki arvestavalt läbi mõeldud ja annavad soovitud tulemusi. \nJõgevamaa loometalgud põhinevad võrumaalaste Vunki Mano! koosloome meetodil  ja kasutame ka Võru ning Tartumaa loometalgute korraldajate häid kogemusi. \nOotame loometalgutele osalema kõiki\,  kes soovivad Jõgevamaa ja oma kodukoha probleemide lahendamises ja uute algatuste arendamises kaasa lüüa.\nIdeid esitama ja loometalgutel meeskondades osalema on oodatud eraisikud\,  kogukondade ja vabaühenduste esindajad\, noored\, ettevõtjad\, ametnikud\, kohalike omavalitsuste esindajad ja kõik muud huvilised.\nKodanike kogemusele\, ettevõtjate realistlikkusele\, ekspertide pädevusele ja ametnike vastutusele  tuginevad ühiselt leitud lahendused annavad kindlasti parima tulemuse. \nJõgevamaa loometalgud saavad alguse märtsikuus lahendamist vajavate ideede kogumisega\, pärast ideede esitamist on aprillis kõigil võimalus ühineda talle huvipakkuva teema meeskonnaga ja 4. juuni talgupäeval üheskoos nendele ideele ka lahenduskäik leida.\nIdeede kogumine  loometalgutele on lõppenud. Kokku esitati Jõgevamaa eri paigust ja erinevatest valdkondadest  6 ideed.  Teemasid on järve taastamisest\, noorte ettevõtlikkuse ja kogukonnateenuste arendamisest\, tühjalt seisvate hoonete kasutamisele võtmisest\, kogukonna ja omavalitsuse suhetest ja toiduraiskamise vältimisest.\nhttps://jaek.ee/loometalgute-teemad-ja-meeskonnad/\n \n Lisainfo: Kersti Kurvits\, Jõgevamaa Arendus- ja Ettevõtluskeskuse kodanikuühenduste konsultant/\nKOPi maakondlik menetleja\,\ntel. 520 8423\, e-post: kersti.kurvits@jaek.ee
URL:https://jaek.ee/event/jogevamaa-loometalgud/
LOCATION:Sadala Rahvamaja\, Sillasoo 4\, Sadala alevik\, Jõgevamaa\, 48501
CATEGORIES:Muu
ATTACH;FMTTYPE=image/jpeg:https://jaek.ee/wp-content/uploads/2022/03/Jogevamaa_loometalgud_esilehe_banner-2.jpg
ORGANIZER;CN="Kersti Kurvits":MAILTO:kersti@jaek.ee
END:VEVENT
END:VCALENDAR