BEGIN:VCALENDAR
VERSION:2.0
PRODID:-//JAEK - ECPv6.15.17.1//NONSGML v1.0//EN
CALSCALE:GREGORIAN
METHOD:PUBLISH
X-WR-CALNAME:JAEK
X-ORIGINAL-URL:https://jaek.ee
X-WR-CALDESC:Events for JAEK
REFRESH-INTERVAL;VALUE=DURATION:PT1H
X-Robots-Tag:noindex
X-PUBLISHED-TTL:PT1H
BEGIN:VTIMEZONE
TZID:UTC
BEGIN:STANDARD
TZOFFSETFROM:+0000
TZOFFSETTO:+0000
TZNAME:UTC
DTSTART:20220101T000000
END:STANDARD
END:VTIMEZONE
BEGIN:VEVENT
DTSTART;TZID=UTC:20230303T130000
DTEND;TZID=UTC:20230303T160000
DTSTAMP:20260420T020158
CREATED:20230225T083151Z
LAST-MODIFIED:20230225T083151Z
UID:8384-1677848400-1677859200@jaek.ee
SUMMARY:Jõgevamaa üldhariduskoolide direktorite koosolek
DESCRIPTION:Olete oodatud Jõgevamaa haridusasutuste juhtide kohtumisele 03. märtsil algusega 13:00 Jõgeva Põhikoolis. Kohtumise orienteeruv lõpp on 15:00. \nArutamisele tulevad teemad: \n\nJõgevamaa tervisedenduse ja turvalisuse tegevused koostöös haridusasutustega 2023. aastal;\nPiirkondlike olümpiaadide tagasiside kokkuvõte;\nPATEE projekt noortele suunatud tegevused;\nHaridusasutuste juhtide ühine seminar;\nHTM-i toetuse eraldamise kord;\nPEEK-projekti ettevalmistus.\n\n  \nPalun anda mitteosalemisest teada hiljemalt 01.03 aadressil hanna-liisa@jaek.ee.
URL:https://jaek.ee/event/jogevamaa-uldhariduskoolide-direktorite-koosolek/
LOCATION:Jõgeva Põhikool\, Rohu 10\, Jõgeva
CATEGORIES:Seminar
ATTACH;FMTTYPE=image/jpeg:https://jaek.ee/wp-content/uploads/2022/10/1666275424944-scaled.jpg
END:VEVENT
END:VCALENDAR