BEGIN:VCALENDAR
VERSION:2.0
PRODID:-//JAEK - ECPv6.15.17.1//NONSGML v1.0//EN
CALSCALE:GREGORIAN
METHOD:PUBLISH
X-WR-CALNAME:JAEK
X-ORIGINAL-URL:https://jaek.ee
X-WR-CALDESC:Events for JAEK
REFRESH-INTERVAL;VALUE=DURATION:PT1H
X-Robots-Tag:noindex
X-PUBLISHED-TTL:PT1H
BEGIN:VTIMEZONE
TZID:UTC
BEGIN:STANDARD
TZOFFSETFROM:+0000
TZOFFSETTO:+0000
TZNAME:UTC
DTSTART:20250101T000000
END:STANDARD
END:VTIMEZONE
BEGIN:VEVENT
DTSTART;TZID=UTC:20260429T180000
DTEND;TZID=UTC:20260429T180000
DTSTAMP:20260419T145827
CREATED:20260416T062601Z
LAST-MODIFIED:20260416T062649Z
UID:28640-1777485600-1777485600@jaek.ee
SUMMARY:Südamega istutatud puu ehk TERVISEDENDUS 30
DESCRIPTION:Südamega istutatud puu ehk TERVISEDENDUS 30\n \nTähistame 29. aprillil kell 18.oo Eesti tervisedenduse 30. aastapäeva. \nJuubeli auks istutame puu Jõgeval Piiri parki ja pärast teeme koos ühe mõnusa seiklusmatka. \n  \nOled oodatud! \n 
URL:https://jaek.ee/event/sudamega-istutatud-puu-ehk-tervisedendus-30/
LOCATION:Piiri park\, Piiri park\, Jõgeva
CATEGORIES:Tervisedendus
ORGANIZER;CN="J%C3%B5gevamaa Arendus- ja Ettev%C3%B5tluskeskus":MAILTO:info@jaek.ee
END:VEVENT
END:VCALENDAR