BEGIN:VCALENDAR
VERSION:2.0
PRODID:-//JAEK - ECPv6.15.17.1//NONSGML v1.0//EN
CALSCALE:GREGORIAN
METHOD:PUBLISH
X-ORIGINAL-URL:https://jaek.ee
X-WR-CALDESC:Events for JAEK
REFRESH-INTERVAL;VALUE=DURATION:PT1H
X-Robots-Tag:noindex
X-PUBLISHED-TTL:PT1H
BEGIN:VTIMEZONE
TZID:UTC
BEGIN:STANDARD
TZOFFSETFROM:+0000
TZOFFSETTO:+0000
TZNAME:UTC
DTSTART:20220101T000000
END:STANDARD
END:VTIMEZONE
BEGIN:VEVENT
DTSTART;TZID=UTC:20240509T100000
DTEND;TZID=UTC:20240509T150000
DTSTAMP:20260420T083835
CREATED:20240425T084117Z
LAST-MODIFIED:20240425T084335Z
UID:16728-1715248800-1715266800@jaek.ee
SUMMARY:Lõuna-Eesti Turismiklastri infopäev Jõgevamaa turismiasjalistele
DESCRIPTION:Lõuna-Eesti Turismiklaster kutsub kõiki turismiasjalisi 𝟗. 𝐦𝐚𝐢𝐥 Mustvee kultuurikeskusesse infopäevale. \nInfopäeval tutvustame Lõuna-Eesti turismiklastri tegevusi\, uusi suundi turismiarenduses ja käesoleva aasta plaane. \nVõtame kokku aasta alguses toimunud ettevõtjate küsitluse\, räägime roheteemadel ning kuulame ühe toreda kogemusloo Lõuna-Eesti turismiklastri liikmelt. \nRegistreeri oma osalemine SIIN
URL:https://jaek.ee/event/louna-eesti-turismiklastri-infopaev-jogevamaa-turismiasjalistele/
LOCATION:Mustvee Kultuurikeskus\, Tartu 12\, Mustvee\, Eesti
CATEGORIES:Infopäev
ATTACH;FMTTYPE=image/png:https://jaek.ee/wp-content/uploads/2024/04/turismiklastri-infopaev.png
END:VEVENT
BEGIN:VEVENT
DTSTART;TZID=UTC:20230314T100000
DTEND;TZID=UTC:20230314T160000
DTSTAMP:20260420T083835
CREATED:20230216T095703Z
LAST-MODIFIED:20230220T081500Z
UID:8298-1678788000-1678809600@jaek.ee
SUMMARY:Sotsiaalmeedia ABC koolitus
DESCRIPTION:Tere\, hea ettevõtja! \nLõuna-Eesti DMO kutsub Sind osalema sotsiaalmeedia ABC koolitusel\, mis toimub 14. märtsil kell 10-16 Jõgeva kultuurikeskuse kammersaalis. \nKoolitajaks on Katrin Vilimaa-Otsing. Katrin on turunduses tegev olnud üle kümne aasta \nning omab seega väga head tunnetust ja silmaringi toimivatest ja mitte toimivatest strateegiatest. Suurema osa ajast veedab ta ise klientide kontosid hallates\, seega koolitused on praktilisest kogemusest. Koolitusel fookus järgmistel teemadel: sotsiaalmeedia algoritmid\, erinevad tööriistad ja abivahendid postituste planeerimiseks\, kuidas teha sihtrühma analüüsi\, tasuliste reklaamide võimalused ja erinevad tehnilised lahendused (retargeting\, lookalike jne)\, kuidas oma kontosid kaitsta\, näited turismivaldkonnast. \nKoolitus on tasuta! Lõunasöögi eest hoolitseb igaüks ise. Kaasa tuleb võtta isiklik sülearvuti. \nKohti koolitusele on ainult 20! Seega ole kiire ja registreeri end koolitusele https://docs.google.com/forms/d/16sRhottwhz7JS0pDwZNHi_qkZQke6y8ONe_r1Q1diFg/edit.  Registreerumine on avatud kuni 10. märtsini või kuni kohti jätkub. \nKoolitus on mõeldud eelkõige neile\, kes juba sotsiaalmeedias toimetavad\, kuid sooviksid oma tulemusi parandada läbi nii orgaanilise sotsiaalmeedia kui tasuliste reklaamide. Koolitusel antakse palju häid nippe ja soovitusi\, seega on see kindlasti kasulik kõigile neile\, kes oma töös sotsiaalmeediaga kokku puutuvad.
URL:https://jaek.ee/event/sotsiaalmeedia-abc-koolitus/
LOCATION:Jõgeva Kultuurikeskus\, Jõgeva Kultuurikeskus\, Aia 6
CATEGORIES:Koolitus
ATTACH;FMTTYPE=image/png:https://jaek.ee/wp-content/uploads/2023/02/Kuvatommis-2023-02-16-115232.png
END:VEVENT
END:VCALENDAR